BEGIN:VCALENDAR
VERSION:2.0
PRODID:-//Contemporary Longrifle Association - ECPv5.9.0//NONSGML v1.0//EN
CALSCALE:GREGORIAN
METHOD:PUBLISH
X-WR-CALNAME:Contemporary Longrifle Association
X-ORIGINAL-URL:https://www.longrifle.com
X-WR-CALDESC:Events for Contemporary Longrifle Association
BEGIN:VTIMEZONE
TZID:America/New_York
BEGIN:DAYLIGHT
TZOFFSETFROM:-0500
TZOFFSETTO:-0400
TZNAME:EDT
DTSTART:20250309T070000
END:DAYLIGHT
BEGIN:STANDARD
TZOFFSETFROM:-0400
TZOFFSETTO:-0500
TZNAME:EST
DTSTART:20251102T060000
END:STANDARD
END:VTIMEZONE
BEGIN:VEVENT
DTSTART;VALUE=DATE:20250124
DTEND;VALUE=DATE:20250126
DTSTAMP:20260420T210816
CREATED:20180904T131053Z
LAST-MODIFIED:20250114T181307Z
UID:100000012114-1737676800-1737849599@www.longrifle.com
SUMMARY:27th Annual "Bushy Run" Historic Arms Show
DESCRIPTION:27th Annual “Bushy Run” Historic Arms Show\n\n********************************************************************************************************\nLocation: \nLamplighter Restaurant\n6566 Route 22\nDelmont\, PA 15626\nWebsite: TheLamplighterDelmont.com\nPhone: 724-468-4545\n********************************************************************************************************\nContact: \nBill Vance\nP.O. Box 602\nExport\, PA 15632\nhttp://oldwestmorelandrifles.com/OWR-CSA.html\nE-mail: bvance@comcast.net\nCell Phone: 724-331-1131\n********************************************************************************************************\nShow Hours: \nFriday\, January 24th\, 2025: 1 pm to 5 pm\nSaturday\, January 26th\, 2025: 9 am to 4 pm\n********************************************************************************************************\nLodging: \n**For show rates mention “The Bushy Run Show”** \nSuper 8 Motel – Delmont (724-468-4888)\nHoliday Inn Express – Delmont (724-468-1050)
URL:https://www.longrifle.com/event/26th-annual-bushy-run-historic-arms-show/
LOCATION:The LampLighter Restaurant\, 6566 Route 22\, Delmont\, Pennsylvania\, 15626
CATEGORIES:Shows
END:VEVENT
END:VCALENDAR